BEGIN:VCALENDAR
VERSION:2.0
PRODID:-//Squarespace Inc/Squarespace 6//v6//EN
BEGIN:VEVENT
UID:5850efd803596ef94b617c3c@squarespace.com
DTSTAMP:20161215T231508Z
DTSTART:20161202T073000Z
DTEND:20170301T083000Z
SUMMARY:Merc Summer Sessions
END:VEVENT
END:VCALENDAR
